BEGIN:VCALENDAR
VERSION:2.0
PRODID:-//104.152.168.27//NONSGML kigkonsult.se iCalcreator 2.20//
CALSCALE:GREGORIAN
METHOD:PUBLISH
X-WR-TIMEZONE:Asia/Tokyo
BEGIN:VEVENT
UID:event40465@Tokyo Gig Guide
DTSTAMP:20260420T210238Z
CATEGORIES:Alternative\, Emo\, Hardcore\, Metal\, Punk
DESCRIPTION:Serotonin Mist\, Underscreen\, Otus\, Deathro\, Torture Smile\,
  All My Friends Are Dead\nカテゴリ: Alternative\, Emo\, Hardcore\, Metal\, Pun
 k\nリンク: https://www.tokyogigguide.com/index.php?option=com_jem&view=event&
 id=40465:serotonin-mist-underscreen-otus-deathro-torture-smile-all-my-frie
 nds-are-dead&Itemid=1094\n
DTSTART:20260509T163000
DTEND:20260509T163000
LOCATION:Daydream\,6F\, 1-1-4\, Minami-cho\, Kichijoji\, Musashino city\,Ki
 chijoji\,Japan
SUMMARY:Serotonin Mist\, Underscreen\, Otus\, Deathro\, Torture Smile\, All
  My Friends Are Dead
URL:https://www.tokyogigguide.com/index.php?option=com_jem&view=event&id=40
 465:serotonin-mist-underscreen-otus-deathro-torture-smile-all-my-friends-a
 re-dead&Itemid=1094
END:VEVENT
END:VCALENDAR
