BEGIN:VCALENDAR
VERSION:2.0
PRODID:-//104.152.168.27//NONSGML kigkonsult.se iCalcreator 2.20//
CALSCALE:GREGORIAN
METHOD:PUBLISH
X-WR-TIMEZONE:Asia/Tokyo
BEGIN:VEVENT
UID:event9808@Tokyo Gig Guide
DTSTAMP:20260421T222054Z
CATEGORIES:Rock
DESCRIPTION:Tori Kudo (工藤冬里)\nカテゴリ: Rock\nリンク: https://www.tokyogigguide.co
 m/index.php?option=com_jem&view=event&id=9808:tori-kudo-&Itemid=1094\n
DTSTART:20140216T190000
DTEND:20140216T190000
LOCATION:黒猫茶房\,東京都杉並区阿佐谷北2-4-2\,Asagaya
SUMMARY:Tori Kudo (工藤冬里)
URL:https://www.tokyogigguide.com/index.php?option=com_jem&view=event&id=98
 08:tori-kudo-&Itemid=1094
END:VEVENT
END:VCALENDAR
