BEGIN:VCALENDAR
VERSION:2.0
PRODID:-//104.152.168.27//NONSGML kigkonsult.se iCalcreator 2.20//
CALSCALE:GREGORIAN
METHOD:PUBLISH
X-WR-TIMEZONE:Asia/Tokyo
BEGIN:VEVENT
UID:event9652@Tokyo Gig Guide
DTSTAMP:20260423T223111Z
CATEGORIES:Doom
DESCRIPTION:POWER TRIP VOL.3 - Kikagaku Moyo\, King Goblin\, The Doner (Kan
 azawa)\, Nepenthes\nカテゴリ: Doom\nリンク: https://www.tokyogigguide.com/index.p
 hp?option=com_jem&view=event&id=9652:power-trip-vol3-kikagaku-moyo-king-go
 blin-the-donerkanazawa-nepenthes-&Itemid=1094\n
DTSTART:20140125T173000
DTEND:20140125T173000
LOCATION:Chop (Shutou)\,Sheema100 B1\, 2-46-3 Ikebukuro\,Ikebukuro
SUMMARY:POWER TRIP VOL.3 - Kikagaku Moyo\, King Goblin\, The Doner (Kanazaw
 a)\, Nepenthes
URL:https://www.tokyogigguide.com/index.php?option=com_jem&view=event&id=96
 52:power-trip-vol3-kikagaku-moyo-king-goblin-the-donerkanazawa-nepenthes-&
 Itemid=1094
END:VEVENT
END:VCALENDAR
