BEGIN:VCALENDAR
VERSION:2.0
PRODID:-//104.152.168.27//NONSGML kigkonsult.se iCalcreator 2.20//
CALSCALE:GREGORIAN
METHOD:PUBLISH
X-WR-TIMEZONE:Asia/Tokyo
BEGIN:VEVENT
UID:event9509@Tokyo Gig Guide
DTSTAMP:20260422T172714Z
CATEGORIES:Improvised
DESCRIPTION:THIS IS OUR CHRISTMAS SONG: Matsumoto Kenichi\, Saga Yuki\, Dar
 ren Moore\, more\nカテゴリ: Improvised\nリンク: https://www.tokyogigguide.com/ind
 ex.php?option=com_jem&view=event&id=9509:qthis-is-our-christmas-songq-mats
 umoto-kenichifriends&Itemid=1094\n
DTSTART:20131221T190000
DTEND:20131221T190000
LOCATION:Airegin\,5-60 Sumiyoshi-cho\, Naka-ku\, Yokohama\, Kanagawa\,Yokoh
 ama
SUMMARY:THIS IS OUR CHRISTMAS SONG: Matsumoto Kenichi\, Saga Yuki\, Darren 
 Moore\, more
URL:https://www.tokyogigguide.com/index.php?option=com_jem&view=event&id=95
 09:qthis-is-our-christmas-songq-matsumoto-kenichifriends&Itemid=1094
END:VEVENT
END:VCALENDAR
