BEGIN:VCALENDAR
VERSION:2.0
PRODID:-//104.152.168.27//NONSGML kigkonsult.se iCalcreator 2.20//
CALSCALE:GREGORIAN
METHOD:PUBLISH
X-WR-TIMEZONE:Asia/Tokyo
BEGIN:VEVENT
UID:event9068@Tokyo Gig Guide
DTSTAMP:20260422T083455Z
CATEGORIES:Garage Rock
DESCRIPTION:THE LEGS\, RANGSTEEN\, THE COKES\, THEEE BAT\nカテゴリ: Garage Rock
 \nリンク: https://www.tokyogigguide.com/index.php?option=com_jem&view=event&i
 d=9068:the-legs-rangsteen-the-cokes-theee-bat&Itemid=1094\n
DTSTART;VALUE=DATE:20130922
DTEND;VALUE=DATE:20130923
LOCATION:Heavy Sick\,Nishihara 2-27-4 B1\, Shibuya-ku\,Hatagaya
SUMMARY:THE LEGS\, RANGSTEEN\, THE COKES\, THEEE BAT
URL:https://www.tokyogigguide.com/index.php?option=com_jem&view=event&id=90
 68:the-legs-rangsteen-the-cokes-theee-bat&Itemid=1094
END:VEVENT
END:VCALENDAR
