BEGIN:VCALENDAR
VERSION:2.0
PRODID:-//104.152.168.27//NONSGML kigkonsult.se iCalcreator 2.20//
CALSCALE:GREGORIAN
METHOD:PUBLISH
X-WR-TIMEZONE:Asia/Tokyo
BEGIN:VEVENT
UID:event903@Tokyo Gig Guide
DTSTAMP:20260424T091613Z
CATEGORIES:Noise
DESCRIPTION:HAINO KEIJI + KAWABATA MAKOTO + YOSHIDA TATSUYA\nカテゴリ: Noise\nリ
 ンク: https://www.tokyogigguide.com/index.php?option=com_jem&view=event&id=9
 03:haino-keiji--kawabata-makoto--yoshida-tatsuya&Itemid=1094\n
DTSTART:20090519T190000
DTEND:20090519T190000
LOCATION:Showboat\,Oak Hill Koenji B1F\, 3-17-2 Koenji Kita\,Koenji
SUMMARY:HAINO KEIJI + KAWABATA MAKOTO + YOSHIDA TATSUYA
URL:https://www.tokyogigguide.com/index.php?option=com_jem&view=event&id=90
 3:haino-keiji--kawabata-makoto--yoshida-tatsuya&Itemid=1094
END:VEVENT
END:VCALENDAR
