BEGIN:VCALENDAR
VERSION:2.0
PRODID:-//104.152.168.27//NONSGML kigkonsult.se iCalcreator 2.20//
CALSCALE:GREGORIAN
METHOD:PUBLISH
X-WR-TIMEZONE:Asia/Tokyo
BEGIN:VEVENT
UID:event8669@Tokyo Gig Guide
DTSTAMP:20260421T150331Z
CATEGORIES:Chiptune
DESCRIPTION:Cheapbeats 7: Bun\, Cheapshot\, Chibitech\, Dj Dn3\, Hally Mega
 ran\, Omodaka\nカテゴリ: Chiptune\nリンク: https://www.tokyogigguide.com/index.ph
 p?option=com_jem&view=event&id=8669:cheapbeats-7-bun-cheapshot-chibitech-d
 j-dn3-hally-megaran-omodaka&Itemid=1094\n
DTSTART:20130621T180000
DTEND:20130621T180000
LOCATION:Heavy Sick\,Nishihara 2-27-4 B1\, Shibuya-ku\,Hatagaya
SUMMARY:Cheapbeats 7: Bun\, Cheapshot\, Chibitech\, Dj Dn3\, Hally Megaran\
 , Omodaka
URL:https://www.tokyogigguide.com/index.php?option=com_jem&view=event&id=86
 69:cheapbeats-7-bun-cheapshot-chibitech-dj-dn3-hally-megaran-omodaka&Itemi
 d=1094
END:VEVENT
END:VCALENDAR
