BEGIN:VCALENDAR
VERSION:2.0
PRODID:-//104.152.168.27//NONSGML kigkonsult.se iCalcreator 2.20//
CALSCALE:GREGORIAN
METHOD:PUBLISH
X-WR-TIMEZONE:Asia/Tokyo
BEGIN:VEVENT
UID:event8657@Tokyo Gig Guide
DTSTAMP:20260423T150329Z
CATEGORIES:Garage Rock
DESCRIPTION:GARAGEVILLE! 2DAYz: DEAD ELVIS & HIS ONE MAN GRAVE\, JACKIE and
  THE CEDRICS\, more\nカテゴリ: Garage Rock\nリンク: https://www.tokyogigguide.com
 /index.php?option=com_jem&view=event&id=8657:garageville-2dayz&Itemid=1094
 \n
DTSTART:20130707T180000
DTEND:20130707T180000
LOCATION:Heavy Sick\,Nishihara 2-27-4 B1\, Shibuya-ku\,Hatagaya
SUMMARY:GARAGEVILLE! 2DAYz: DEAD ELVIS & HIS ONE MAN GRAVE\, JACKIE and THE
  CEDRICS\, more
URL:https://www.tokyogigguide.com/index.php?option=com_jem&view=event&id=86
 57:garageville-2dayz&Itemid=1094
END:VEVENT
END:VCALENDAR
