BEGIN:VCALENDAR
VERSION:2.0
PRODID:-//104.152.168.27//NONSGML kigkonsult.se iCalcreator 2.20//
CALSCALE:GREGORIAN
METHOD:PUBLISH
X-WR-TIMEZONE:Asia/Tokyo
BEGIN:VEVENT
UID:event8484@Tokyo Gig Guide
DTSTAMP:20260422T020353Z
CATEGORIES:Psychedelic
DESCRIPTION:長谷川静男 (Hasegawa-Shizuo)\nカテゴリ: Psychedelic\nリンク: https://www.to
 kyogigguide.com/index.php?option=com_jem&view=event&id=8484:-hasegawa-shiz
 uo&Itemid=1094\n
DTSTART:20130623T120000
DTEND:20130623T120000
LOCATION:黒猫茶房\,東京都杉並区阿佐谷北2-4-2\,Asagaya
SUMMARY:長谷川静男 (Hasegawa-Shizuo)
URL:https://www.tokyogigguide.com/index.php?option=com_jem&view=event&id=84
 84:-hasegawa-shizuo&Itemid=1094
END:VEVENT
END:VCALENDAR
