BEGIN:VCALENDAR
VERSION:2.0
PRODID:-//104.152.168.27//NONSGML kigkonsult.se iCalcreator 2.20//
CALSCALE:GREGORIAN
METHOD:PUBLISH
X-WR-TIMEZONE:Asia/Tokyo
BEGIN:VEVENT
UID:event8150@Tokyo Gig Guide
DTSTAMP:20260419T124151Z
CATEGORIES:Improvised
DESCRIPTION:sound driftage: kawol\, Yoshimoto Yumiko\nカテゴリ: Improvised\nリンク
 : https://www.tokyogigguide.com/index.php?option=com_jem&view=event&id=815
 0:sound-driftage&Itemid=1094\n
DTSTART:20130425T190000
DTEND:20130425T190000
LOCATION:Airegin\,5-60 Sumiyoshi-cho\, Naka-ku\, Yokohama\, Kanagawa\,Yokoh
 ama
SUMMARY:sound driftage: kawol\, Yoshimoto Yumiko
URL:https://www.tokyogigguide.com/index.php?option=com_jem&view=event&id=81
 50:sound-driftage&Itemid=1094
END:VEVENT
END:VCALENDAR
