BEGIN:VCALENDAR
VERSION:2.0
PRODID:-//104.152.168.27//NONSGML kigkonsult.se iCalcreator 2.20//
CALSCALE:GREGORIAN
METHOD:PUBLISH
X-WR-TIMEZONE:Asia/Tokyo
BEGIN:VEVENT
UID:event8040@Tokyo Gig Guide
DTSTAMP:20260423T100148Z
CATEGORIES:Party
DESCRIPTION:FASHION CRISIS: Kitsch Hitori Gakudan\, Dokkun (Living Astro)\,
  DJs\nカテゴリ: Party\nリンク: https://www.tokyogigguide.com/index.php?option=com
 _jem&view=event&id=8040:fashion-crisis-kitsch-hitori-gakudan-dokkun-living
 -astro-djs&Itemid=1094\n
DTSTART:20130301T200000
DTEND:20130301T200000
LOCATION:Knock (Koenji)\,Koenji Minami 3-48-6  B1F\,Koenji
SUMMARY:FASHION CRISIS: Kitsch Hitori Gakudan\, Dokkun (Living Astro)\, DJs
URL:https://www.tokyogigguide.com/index.php?option=com_jem&view=event&id=80
 40:fashion-crisis-kitsch-hitori-gakudan-dokkun-living-astro-djs&Itemid=109
 4
END:VEVENT
END:VCALENDAR
