BEGIN:VCALENDAR
VERSION:2.0
PRODID:-//104.152.168.27//NONSGML kigkonsult.se iCalcreator 2.20//
CALSCALE:GREGORIAN
METHOD:PUBLISH
X-WR-TIMEZONE:Asia/Tokyo
BEGIN:VEVENT
UID:event8029@Tokyo Gig Guide
DTSTAMP:20260425T202553Z
CATEGORIES:Garage Rock
DESCRIPTION:Breadmakers (from Australia)\, The Raydios\, The Gimmies\, Pebb
 les\nカテゴリ: Garage Rock\nリンク: https://www.tokyogigguide.com/index.php?optio
 n=com_jem&view=event&id=8029:qbreadmakers-japan-tourq&Itemid=1094\n
DTSTART:20130302T183000
DTEND:20130302T183000
LOCATION:Heavy Sick\,Nishihara 2-27-4 B1\, Shibuya-ku\,Hatagaya
SUMMARY:Breadmakers (from Australia)\, The Raydios\, The Gimmies\, Pebbles
URL:https://www.tokyogigguide.com/index.php?option=com_jem&view=event&id=80
 29:qbreadmakers-japan-tourq&Itemid=1094
END:VEVENT
END:VCALENDAR
