BEGIN:VCALENDAR
VERSION:2.0
PRODID:-//104.152.168.27//NONSGML kigkonsult.se iCalcreator 2.20//
CALSCALE:GREGORIAN
METHOD:PUBLISH
X-WR-TIMEZONE:Asia/Tokyo
BEGIN:VEVENT
UID:event7843@Tokyo Gig Guide
DTSTAMP:20260420T070841Z
CATEGORIES:Improvised
DESCRIPTION:WORMHOLE\nカテゴリ: Improvised\nリンク: https://www.tokyogigguide.com/
 index.php?option=com_jem&view=event&id=7843:wormhole&Itemid=1094\n
DTSTART:20130209T190000
DTEND:20130209T190000
LOCATION:Airegin\,5-60 Sumiyoshi-cho\, Naka-ku\, Yokohama\, Kanagawa\,Yokoh
 ama
SUMMARY:WORMHOLE
URL:https://www.tokyogigguide.com/index.php?option=com_jem&view=event&id=78
 43:wormhole&Itemid=1094
END:VEVENT
END:VCALENDAR
