BEGIN:VCALENDAR
VERSION:2.0
PRODID:-//104.152.168.27//NONSGML kigkonsult.se iCalcreator 2.20//
CALSCALE:GREGORIAN
METHOD:PUBLISH
X-WR-TIMEZONE:Asia/Tokyo
BEGIN:VEVENT
UID:event7443@Tokyo Gig Guide
DTSTAMP:20260419T130614Z
CATEGORIES:Improvised
DESCRIPTION:Yoko Arai\, Yoko Tada\, Marcos Fernandes\nカテゴリ: Improvised\nリンク
 : https://www.tokyogigguide.com/index.php?option=com_jem&view=event&id=744
 3:yoko-arai-yoko-tada-marcos-fernandes&Itemid=1094\n
DTSTART:20121123T150000
DTEND:20121123T150000
LOCATION:Airegin\,5-60 Sumiyoshi-cho\, Naka-ku\, Yokohama\, Kanagawa\,Yokoh
 ama
SUMMARY:Yoko Arai\, Yoko Tada\, Marcos Fernandes
URL:https://www.tokyogigguide.com/index.php?option=com_jem&view=event&id=74
 43:yoko-arai-yoko-tada-marcos-fernandes&Itemid=1094
END:VEVENT
END:VCALENDAR
