BEGIN:VCALENDAR
VERSION:2.0
PRODID:-//104.152.168.27//NONSGML kigkonsult.se iCalcreator 2.20//
CALSCALE:GREGORIAN
METHOD:PUBLISH
X-WR-TIMEZONE:Asia/Tokyo
BEGIN:VEVENT
UID:event722@Tokyo Gig Guide
DTSTAMP:20260425T191812Z
CATEGORIES:Experimental
DESCRIPTION:OMOIDE HATOBA\nカテゴリ: Experimental\nリンク: https://www.tokyogiggui
 de.com/index.php?option=com_jem&view=event&id=722:omoide-hatoba&Itemid=109
 4\n
DTSTART:20090607T180000
DTEND:20090607T180000
LOCATION:Earthdom\,Lisbon Bldg B1F\, 3-32-3 Okubo\, Shinjuku-ku\,Okubo
SUMMARY:OMOIDE HATOBA
URL:https://www.tokyogigguide.com/index.php?option=com_jem&view=event&id=72
 2:omoide-hatoba&Itemid=1094
END:VEVENT
END:VCALENDAR
