BEGIN:VCALENDAR
VERSION:2.0
PRODID:-//104.152.168.27//NONSGML kigkonsult.se iCalcreator 2.20//
CALSCALE:GREGORIAN
METHOD:PUBLISH
X-WR-TIMEZONE:Asia/Tokyo
BEGIN:VEVENT
UID:event7194@Tokyo Gig Guide
DTSTAMP:20260419T164051Z
CATEGORIES:Improvised
DESCRIPTION:PRAED: Paed Conca & Raed Yassin + Maki Hachiya\, Marcos Fernand
 es\nカテゴリ: Improvised\nリンク: https://www.tokyogigguide.com/index.php?option=
 com_jem&view=event&id=7194:praed-paed-conca-a-raed-yassin--maki-hachiya-ma
 rcos-fernandes&Itemid=1094\n
DTSTART:20121013T190000
DTEND:20121013T190000
LOCATION:Airegin\,5-60 Sumiyoshi-cho\, Naka-ku\, Yokohama\, Kanagawa\,Yokoh
 ama
SUMMARY:PRAED: Paed Conca & Raed Yassin + Maki Hachiya\, Marcos Fernandes
URL:https://www.tokyogigguide.com/index.php?option=com_jem&view=event&id=71
 94:praed-paed-conca-a-raed-yassin--maki-hachiya-marcos-fernandes&Itemid=10
 94
END:VEVENT
END:VCALENDAR
