BEGIN:VCALENDAR
VERSION:2.0
PRODID:-//104.152.168.27//NONSGML kigkonsult.se iCalcreator 2.20//
CALSCALE:GREGORIAN
METHOD:PUBLISH
X-WR-TIMEZONE:Asia/Tokyo
BEGIN:VEVENT
UID:event7158@Tokyo Gig Guide
DTSTAMP:20260421T113616Z
CATEGORIES:Garage Rock
DESCRIPTION:WOLF WOLF (Swiss)\, ED WOODS\, VILLAINZ\, BEAVER PATROL\, d/i/s
 /c/o/s\nカテゴリ: Garage Rock\nリンク: https://www.tokyogigguide.com/index.php?op
 tion=com_jem&view=event&id=7158:wolf-wolf-swiss-ed-woods-villainz-beaver-p
 atrol-discos&Itemid=1094\n
DTSTART:20121006T173000
DTEND:20121006T173000
LOCATION:Heavy Sick\,Nishihara 2-27-4 B1\, Shibuya-ku\,Hatagaya
SUMMARY:WOLF WOLF (Swiss)\, ED WOODS\, VILLAINZ\, BEAVER PATROL\, d/i/s/c/o
 /s
URL:https://www.tokyogigguide.com/index.php?option=com_jem&view=event&id=71
 58:wolf-wolf-swiss-ed-woods-villainz-beaver-patrol-discos&Itemid=1094
END:VEVENT
END:VCALENDAR
