BEGIN:VCALENDAR
VERSION:2.0
PRODID:-//104.152.168.27//NONSGML kigkonsult.se iCalcreator 2.20//
CALSCALE:GREGORIAN
METHOD:PUBLISH
X-WR-TIMEZONE:Asia/Tokyo
BEGIN:VEVENT
UID:event6926@Tokyo Gig Guide
DTSTAMP:20260422T102300Z
CATEGORIES:Pop
DESCRIPTION:Kailen Mizsawa\, INVASOR\, gravel's end\, erasers\nカテゴリ: Pop\nリ
 ンク: https://www.tokyogigguide.com/index.php?option=com_jem&view=event&id=6
 926:kailen-mizsawa-invasor-gravels-end-erasers&Itemid=1094\n
DTSTART:20120810T183000
DTEND:20120810T183000
LOCATION:Chop (Shutou)\,Sheema100 B1\, 2-46-3 Ikebukuro\,Ikebukuro
SUMMARY:Kailen Mizsawa\, INVASOR\, gravel's end\, erasers
URL:https://www.tokyogigguide.com/index.php?option=com_jem&view=event&id=69
 26:kailen-mizsawa-invasor-gravels-end-erasers&Itemid=1094
END:VEVENT
END:VCALENDAR
