BEGIN:VCALENDAR
VERSION:2.0
PRODID:-//104.152.168.27//NONSGML kigkonsult.se iCalcreator 2.20//
CALSCALE:GREGORIAN
METHOD:PUBLISH
X-WR-TIMEZONE:Asia/Tokyo
BEGIN:VEVENT
UID:event6603@Tokyo Gig Guide
DTSTAMP:20260421T113851Z
CATEGORIES:Mixed Genre
DESCRIPTION:Nejimaki Ant Brothers\, Far from Perfect\, Conex\, Rain Whewn I
  Die\, Lareina\nカテゴリ: Mixed Genre\nリンク: https://www.tokyogigguide.com/inde
 x.php?option=com_jem&view=event&id=6603:nejimaki-ant-brothers-far-from-per
 fect-conex-rain-whewn-i-die-lareina-&Itemid=1094\n
DTSTART:20120602T193000
DTEND:20120602T193000
LOCATION:Ruby Room\,2F Kasumi Bldg\, Dogenzaka 2-25-17\, Shibuya\,Shibuya
SUMMARY:Nejimaki Ant Brothers\, Far from Perfect\, Conex\, Rain Whewn I Die
 \, Lareina
URL:https://www.tokyogigguide.com/index.php?option=com_jem&view=event&id=66
 03:nejimaki-ant-brothers-far-from-perfect-conex-rain-whewn-i-die-lareina-&
 Itemid=1094
END:VEVENT
END:VCALENDAR
