BEGIN:VCALENDAR
VERSION:2.0
PRODID:-//104.152.168.27//NONSGML kigkonsult.se iCalcreator 2.20//
CALSCALE:GREGORIAN
METHOD:PUBLISH
X-WR-TIMEZONE:Asia/Tokyo
BEGIN:VEVENT
UID:event6442@Tokyo Gig Guide
DTSTAMP:20260425T115850Z
CATEGORIES:Alternative
DESCRIPTION:Moskt\, Transmisson Ends\, Zeeblebuzz A Knot\, Negative Zero\, 
 DJs\nカテゴリ: Alternative\nリンク: https://www.tokyogigguide.com/index.php?optio
 n=com_jem&view=event&id=6442:moskt-transmisson-ends-zeeblebuzz-a-knot-nega
 tive-zero&Itemid=1094\n
DTSTART:20120421T193000
DTEND:20120421T193000
LOCATION:Ruby Room\,2F Kasumi Bldg\, Dogenzaka 2-25-17\, Shibuya\,Shibuya
SUMMARY:Moskt\, Transmisson Ends\, Zeeblebuzz A Knot\, Negative Zero\, DJs
URL:https://www.tokyogigguide.com/index.php?option=com_jem&view=event&id=64
 42:moskt-transmisson-ends-zeeblebuzz-a-knot-negative-zero&Itemid=1094
END:VEVENT
END:VCALENDAR
