BEGIN:VCALENDAR
VERSION:2.0
PRODID:-//104.152.168.27//NONSGML kigkonsult.se iCalcreator 2.20//
CALSCALE:GREGORIAN
METHOD:PUBLISH
X-WR-TIMEZONE:Asia/Tokyo
BEGIN:VEVENT
UID:event625@Tokyo Gig Guide
DTSTAMP:20260419T131846Z
CATEGORIES:Alternative
DESCRIPTION:ZAPPA PLAYS ZAPPA\nカテゴリ: Alternative\nリンク: https://www.tokyogig
 guide.com/index.php?option=com_jem&view=event&id=625:zappa-plays-zappa&Ite
 mid=1094\n
DTSTART:20090407T183000
DTEND:20090407T183000
LOCATION:O-East\,2F 2-14-9 Dogenzaka\, Shibuya-ku\,Shibuya
SUMMARY:ZAPPA PLAYS ZAPPA
URL:https://www.tokyogigguide.com/index.php?option=com_jem&view=event&id=62
 5:zappa-plays-zappa&Itemid=1094
END:VEVENT
END:VCALENDAR
