BEGIN:VCALENDAR
VERSION:2.0
PRODID:-//104.152.168.27//NONSGML kigkonsult.se iCalcreator 2.20//
CALSCALE:GREGORIAN
METHOD:PUBLISH
X-WR-TIMEZONE:Asia/Tokyo
BEGIN:VEVENT
UID:event6041@Tokyo Gig Guide
DTSTAMP:20260421T013556Z
CATEGORIES:Alternative
DESCRIPTION:Christopher Allan Diadora\, Moskt\, redskins\, Paranoid Bee\, D
 Js Timutaku\, フランソワ\, more\nカテゴリ: Alternative\nリンク: https://www.tokyogiggu
 ide.com/index.php?option=com_jem&view=event&id=6041:christopher-allan-diad
 ora-moskt-redskins-paranoid-bee-djs-timutaku--more&Itemid=1094\n
DTSTART:20120211T190000
DTEND:20120211T190000
LOCATION:Ruby Room\,2F Kasumi Bldg\, Dogenzaka 2-25-17\, Shibuya\,Shibuya
SUMMARY:Christopher Allan Diadora\, Moskt\, redskins\, Paranoid Bee\, DJs T
 imutaku\, フランソワ\, more
URL:https://www.tokyogigguide.com/index.php?option=com_jem&view=event&id=60
 41:christopher-allan-diadora-moskt-redskins-paranoid-bee-djs-timutaku--mor
 e&Itemid=1094
END:VEVENT
END:VCALENDAR
