BEGIN:VCALENDAR
VERSION:2.0
PRODID:-//104.152.168.27//NONSGML kigkonsult.se iCalcreator 2.20//
CALSCALE:GREGORIAN
METHOD:PUBLISH
X-WR-TIMEZONE:Asia/Tokyo
BEGIN:VEVENT
UID:event597@Tokyo Gig Guide
DTSTAMP:20260424T034614Z
CATEGORIES:Experimental
DESCRIPTION:Mitsuru Nasuno\, Keiji Haino\, Otomo Yoshihide\, Eiko Ishibashi
 \, and Tsuneo Imahori\nカテゴリ: Experimental\nリンク: https://www.tokyogigguide.
 com/index.php?option=com_jem&view=event&id=597:mitsuru-nasuno-keiji-haino-
 otomo-yoshihide-eiko-ishibashi-and-tsuneo-imahori&Itemid=1094\n
DTSTART:20090208T190000
DTEND:20090208T190000
LOCATION:Showboat\,Oak Hill Koenji B1F\, 3-17-2 Koenji Kita\,Koenji
SUMMARY:Mitsuru Nasuno\, Keiji Haino\, Otomo Yoshihide\, Eiko Ishibashi\, a
 nd Tsuneo Imahori
URL:https://www.tokyogigguide.com/index.php?option=com_jem&view=event&id=59
 7:mitsuru-nasuno-keiji-haino-otomo-yoshihide-eiko-ishibashi-and-tsuneo-ima
 hori&Itemid=1094
END:VEVENT
END:VCALENDAR
