BEGIN:VCALENDAR
VERSION:2.0
PRODID:-//104.152.168.27//NONSGML kigkonsult.se iCalcreator 2.20//
CALSCALE:GREGORIAN
METHOD:PUBLISH
X-WR-TIMEZONE:Asia/Tokyo
BEGIN:VEVENT
UID:event5887@Tokyo Gig Guide
DTSTAMP:20260420T012556Z
CATEGORIES:Improvised
DESCRIPTION:Shoko Nagai + Yuki Saga + Marcos Fernandes\nカテゴリ: Improvised\nリ
 ンク: https://www.tokyogigguide.com/index.php?option=com_jem&view=event&id=5
 887:shoko-nagai--yuki-saga--marcos-fernandes&Itemid=1094\n
DTSTART:20120113T190000
DTEND:20120113T190000
LOCATION:Airegin\,5-60 Sumiyoshi-cho\, Naka-ku\, Yokohama\, Kanagawa\,Yokoh
 ama
SUMMARY:Shoko Nagai + Yuki Saga + Marcos Fernandes
URL:https://www.tokyogigguide.com/index.php?option=com_jem&view=event&id=58
 87:shoko-nagai--yuki-saga--marcos-fernandes&Itemid=1094
END:VEVENT
END:VCALENDAR
