BEGIN:VCALENDAR
VERSION:2.0
PRODID:-//104.152.168.27//NONSGML kigkonsult.se iCalcreator 2.20//
CALSCALE:GREGORIAN
METHOD:PUBLISH
X-WR-TIMEZONE:Asia/Tokyo
BEGIN:VEVENT
UID:event5705@Tokyo Gig Guide
DTSTAMP:20260421T093512Z
CATEGORIES:Indie-Rock
DESCRIPTION:Pub Rock Revival: Sunset Drive\, Golden Katies!!\, Android Beac
 h Party\, Mana Hardcore\nカテゴリ: Indie-Rock\nリンク: https://www.tokyogigguide.
 com/index.php?option=com_jem&view=event&id=5705:pub-rock-revival-live-rock
 -gig&Itemid=1094\n
DTSTART:20111210T193000
DTEND:20111210T193000
LOCATION:Ruby Room\,2F Kasumi Bldg\, Dogenzaka 2-25-17\, Shibuya\,Shibuya
SUMMARY:Pub Rock Revival: Sunset Drive\, Golden Katies!!\, Android Beach Pa
 rty\, Mana Hardcore
URL:https://www.tokyogigguide.com/index.php?option=com_jem&view=event&id=57
 05:pub-rock-revival-live-rock-gig&Itemid=1094
END:VEVENT
END:VCALENDAR
