BEGIN:VCALENDAR
VERSION:2.0
PRODID:-//104.152.168.27//NONSGML kigkonsult.se iCalcreator 2.20//
CALSCALE:GREGORIAN
METHOD:PUBLISH
X-WR-TIMEZONE:Asia/Tokyo
BEGIN:VEVENT
UID:event554@Tokyo Gig Guide
DTSTAMP:20260426T003522Z
CATEGORIES:Unclassifiable
DESCRIPTION:NOISE CLINIC\, VeeeDeee\, Filth\, Tetragrammaton\, AKBK\nカテゴリ: 
 Unclassifiable\nリンク: https://www.tokyogigguide.com/index.php?option=com_je
 m&view=event&id=554:noise-clinic-veeedeee-filth-tetragrammaton-akbk&Itemid
 =1094\n
DTSTART:20090129T183000
DTEND:20090129T183000
LOCATION:Earthdom\,Lisbon Bldg B1F\, 3-32-3 Okubo\, Shinjuku-ku\,Okubo
SUMMARY:NOISE CLINIC\, VeeeDeee\, Filth\, Tetragrammaton\, AKBK
URL:https://www.tokyogigguide.com/index.php?option=com_jem&view=event&id=55
 4:noise-clinic-veeedeee-filth-tetragrammaton-akbk&Itemid=1094
END:VEVENT
END:VCALENDAR
