BEGIN:VCALENDAR
VERSION:2.0
PRODID:-//104.152.168.27//NONSGML kigkonsult.se iCalcreator 2.20//
CALSCALE:GREGORIAN
METHOD:PUBLISH
X-WR-TIMEZONE:Asia/Tokyo
BEGIN:VEVENT
UID:event5529@Tokyo Gig Guide
DTSTAMP:20260424T092421Z
CATEGORIES:Indie-Rock
DESCRIPTION:CHOP (Ikebukuro) 9th Anniversary Event: MONSTER CAT (Singapore)
 \, Bash\, DraiN\, W.A.R.P\nカテゴリ: Indie-Rock\nリンク: https://www.tokyogigguid
 e.com/index.php?option=com_jem&view=event&id=5529:chop-ikebukuro-9th-anniv
 ersary-event-monster-catsingapore-bash-drain-warp&Itemid=1094\n
DTSTART:20111108T183000
DTEND:20111108T183000
LOCATION:Chop (Shutou)\,Sheema100 B1\, 2-46-3 Ikebukuro\,Ikebukuro
SUMMARY:CHOP (Ikebukuro) 9th Anniversary Event: MONSTER CAT (Singapore)\, B
 ash\, DraiN\, W.A.R.P
URL:https://www.tokyogigguide.com/index.php?option=com_jem&view=event&id=55
 29:chop-ikebukuro-9th-anniversary-event-monster-catsingapore-bash-drain-wa
 rp&Itemid=1094
END:VEVENT
END:VCALENDAR
