BEGIN:VCALENDAR
VERSION:2.0
PRODID:-//104.152.168.27//NONSGML kigkonsult.se iCalcreator 2.20//
CALSCALE:GREGORIAN
METHOD:PUBLISH
X-WR-TIMEZONE:Asia/Tokyo
BEGIN:VEVENT
UID:event5412@Tokyo Gig Guide
DTSTAMP:20260424T171014Z
CATEGORIES:Free Jazz
DESCRIPTION:Peter Brötzmann\, Fred Lonberg-Holm\, Paal Nilssen-Love\nカテゴリ: 
 Free Jazz\nリンク: https://www.tokyogigguide.com/index.php?option=com_jem&vie
 w=event&id=5412:peter-broetzmann-fred-lonberg-holm-paal-nilssen-love&Itemi
 d=1094\n
DTSTART:20111013T190000
DTEND:20111013T190000
LOCATION:Airegin\,5-60 Sumiyoshi-cho\, Naka-ku\, Yokohama\, Kanagawa\,Yokoh
 ama
SUMMARY:Peter Brötzmann\, Fred Lonberg-Holm\, Paal Nilssen-Love
URL:https://www.tokyogigguide.com/index.php?option=com_jem&view=event&id=54
 12:peter-broetzmann-fred-lonberg-holm-paal-nilssen-love&Itemid=1094
END:VEVENT
END:VCALENDAR
