BEGIN:VCALENDAR
VERSION:2.0
PRODID:-//104.152.168.27//NONSGML kigkonsult.se iCalcreator 2.20//
CALSCALE:GREGORIAN
METHOD:PUBLISH
X-WR-TIMEZONE:Asia/Tokyo
BEGIN:VEVENT
UID:event5294@Tokyo Gig Guide
DTSTAMP:20260421T150259Z
CATEGORIES:Indie-Rock
DESCRIPTION:Sawas Phool\, Otonana Trio\, icon girl pistols\, The Code\, DJ 
 Erock\nカテゴリ: Indie-Rock\nリンク: https://www.tokyogigguide.com/index.php?opti
 on=com_jem&view=event&id=5294:sawas-phool-otonana-trio-icon-girl-pistols-t
 he-code-dj-erock&Itemid=1094\n
DTSTART:20110930T193000
DTEND:20110930T193000
LOCATION:Ruby Room\,2F Kasumi Bldg\, Dogenzaka 2-25-17\, Shibuya\,Shibuya
SUMMARY:Sawas Phool\, Otonana Trio\, icon girl pistols\, The Code\, DJ Eroc
 k
URL:https://www.tokyogigguide.com/index.php?option=com_jem&view=event&id=52
 94:sawas-phool-otonana-trio-icon-girl-pistols-the-code-dj-erock&Itemid=109
 4
END:VEVENT
END:VCALENDAR
