BEGIN:VCALENDAR
VERSION:2.0
PRODID:-//104.152.168.27//NONSGML kigkonsult.se iCalcreator 2.20//
CALSCALE:GREGORIAN
METHOD:PUBLISH
X-WR-TIMEZONE:Asia/Tokyo
BEGIN:VEVENT
UID:event4967@Tokyo Gig Guide
DTSTAMP:20260424T130818Z
CATEGORIES:Indie-Rock
DESCRIPTION:Pub Rock Revival: Jimmy Binks and the Shakehorns\, The Loyettes
 \, Happy When it Rains\nカテゴリ: Indie-Rock\nリンク: https://www.tokyogigguide.c
 om/index.php?option=com_jem&view=event&id=4967:pub-rock-revival&Itemid=109
 4\n
DTSTART:20110709T200000
DTEND:20110709T200000
LOCATION:Ruby Room\,2F Kasumi Bldg\, Dogenzaka 2-25-17\, Shibuya\,Shibuya
SUMMARY:Pub Rock Revival: Jimmy Binks and the Shakehorns\, The Loyettes\, H
 appy When it Rains
URL:https://www.tokyogigguide.com/index.php?option=com_jem&view=event&id=49
 67:pub-rock-revival&Itemid=1094
END:VEVENT
END:VCALENDAR
