BEGIN:VCALENDAR
VERSION:2.0
PRODID:-//104.152.168.27//NONSGML kigkonsult.se iCalcreator 2.20//
CALSCALE:GREGORIAN
METHOD:PUBLISH
X-WR-TIMEZONE:Asia/Tokyo
BEGIN:VEVENT
UID:event4659@Tokyo Gig Guide
DTSTAMP:20260423T221508Z
CATEGORIES:Power Pop
DESCRIPTION:THE LEGS\, STAIRS\, NERVOUS HEARTS\nカテゴリ: Power Pop\nリンク: https
 ://www.tokyogigguide.com/index.php?option=com_jem&view=event&id=4659:the-l
 egs-stairs-nervous-hearts&Itemid=1094\n
DTSTART:20110627T190000
DTEND:20110627T190000
LOCATION:Heavy Sick\,Nishihara 2-27-4 B1\, Shibuya-ku\,Hatagaya
SUMMARY:THE LEGS\, STAIRS\, NERVOUS HEARTS
URL:https://www.tokyogigguide.com/index.php?option=com_jem&view=event&id=46
 59:the-legs-stairs-nervous-hearts&Itemid=1094
END:VEVENT
END:VCALENDAR
