BEGIN:VCALENDAR
VERSION:2.0
PRODID:-//104.152.168.27//NONSGML kigkonsult.se iCalcreator 2.20//
CALSCALE:GREGORIAN
METHOD:PUBLISH
X-WR-TIMEZONE:Asia/Tokyo
BEGIN:VEVENT
UID:event4650@Tokyo Gig Guide
DTSTAMP:20260421T150311Z
CATEGORIES:Rock
DESCRIPTION:Bad Noise! - Apollo18 (from Korea)\, Sawas Phool + The Cold Tom
 my\nカテゴリ: Rock\nリンク: https://www.tokyogigguide.com/index.php?option=com_je
 m&view=event&id=4650:bad-noise-apollo18-from-korea-sawas-phool--the-cold-t
 ommy&Itemid=1094\n
DTSTART:20110528T193000
DTEND:20110528T193000
LOCATION:Ruby Room\,2F Kasumi Bldg\, Dogenzaka 2-25-17\, Shibuya\,Shibuya
SUMMARY:Bad Noise! - Apollo18 (from Korea)\, Sawas Phool + The Cold Tommy
URL:https://www.tokyogigguide.com/index.php?option=com_jem&view=event&id=46
 50:bad-noise-apollo18-from-korea-sawas-phool--the-cold-tommy&Itemid=1094
END:VEVENT
END:VCALENDAR
