BEGIN:VCALENDAR
VERSION:2.0
PRODID:-//104.152.168.27//NONSGML kigkonsult.se iCalcreator 2.20//
CALSCALE:GREGORIAN
METHOD:PUBLISH
X-WR-TIMEZONE:Asia/Tokyo
BEGIN:VEVENT
UID:event4407@Tokyo Gig Guide
DTSTAMP:20260423T203649Z
CATEGORIES:Garage Rock
DESCRIPTION:ATOMIC SUPLEX (UK)\, EDDIE LEGEND STORY\, RAT HOLIC\, THEEE BAT
 \, ANDROID BEACH PARTY\nカテゴリ: Garage Rock\nリンク: https://www.tokyogigguide.
 com/index.php?option=com_jem&view=event&id=4407:atomic-suplex-uk-eddie-leg
 end-story-rat-holic-theee-bat-android-beach-party&Itemid=1094\n
DTSTART:20110402T180000
DTEND:20110402T180000
LOCATION:Heavy Sick\,Nishihara 2-27-4 B1\, Shibuya-ku\,Hatagaya
SUMMARY:ATOMIC SUPLEX (UK)\, EDDIE LEGEND STORY\, RAT HOLIC\, THEEE BAT\, A
 NDROID BEACH PARTY
URL:https://www.tokyogigguide.com/index.php?option=com_jem&view=event&id=44
 07:atomic-suplex-uk-eddie-legend-story-rat-holic-theee-bat-android-beach-p
 arty&Itemid=1094
END:VEVENT
END:VCALENDAR
