BEGIN:VCALENDAR
VERSION:2.0
PRODID:-//104.152.168.27//NONSGML kigkonsult.se iCalcreator 2.20//
CALSCALE:GREGORIAN
METHOD:PUBLISH
X-WR-TIMEZONE:Asia/Tokyo
BEGIN:VEVENT
UID:event40723@Tokyo Gig Guide
DTSTAMP:20260422T103109Z
CATEGORIES:Jazz
DESCRIPTION:Toshiyuki Sekine\, Ryuichi Takase\, Seiji Harakawa\, Yutaka Yok
 oyama\, Takayuki Koizumi\nカテゴリ: Jazz\nリンク: https://www.tokyogigguide.com/i
 ndex.php?option=com_jem&view=event&id=40723:toshiyuki-sekine-ryuichi-takas
 e-seiji-harakawa-yutaka-yokoyama-takayuki-koizumi&Itemid=1094\n
DTSTART:20260421T133000
DTEND:20260421T133000
LOCATION:Pit Inn\,Accord Bldg B1\, 2-12-4 Shinjuku\, Shinjuku-ku\,Shinjuku
SUMMARY:Toshiyuki Sekine\, Ryuichi Takase\, Seiji Harakawa\, Yutaka Yokoyam
 a\, Takayuki Koizumi
URL:https://www.tokyogigguide.com/index.php?option=com_jem&view=event&id=40
 723:toshiyuki-sekine-ryuichi-takase-seiji-harakawa-yutaka-yokoyama-takayuk
 i-koizumi&Itemid=1094
END:VEVENT
END:VCALENDAR
