BEGIN:VCALENDAR
VERSION:2.0
PRODID:-//104.152.168.27//NONSGML kigkonsult.se iCalcreator 2.20//
CALSCALE:GREGORIAN
METHOD:PUBLISH
X-WR-TIMEZONE:Asia/Tokyo
BEGIN:VEVENT
UID:event40655@Tokyo Gig Guide
DTSTAMP:20260420T074150Z
CATEGORIES:Alternative\, Ambient\, Blues
DESCRIPTION:Ayami Suzuki + Ken Ikeda\, Gendry Loïc + Kim Sun Ki\nカテゴリ: Alte
 rnative\, Ambient\, Blues\nリンク: https://www.tokyogigguide.com/index.php?op
 tion=com_jem&view=event&id=40655:ayami-suzuki-ken-ikeda-gendry-loic-kim-su
 n-ki&Itemid=1094\n
DTSTART:20260425T190000
DTEND:20260425T190000
LOCATION:POLARIS\,6-2-10 Minami-Aoyama\, Minato-ku\, Tokyo\,Minami-Aoyama
SUMMARY:Ayami Suzuki + Ken Ikeda\, Gendry Loïc + Kim Sun Ki
URL:https://www.tokyogigguide.com/index.php?option=com_jem&view=event&id=40
 655:ayami-suzuki-ken-ikeda-gendry-loic-kim-sun-ki&Itemid=1094
END:VEVENT
END:VCALENDAR
