BEGIN:VCALENDAR
VERSION:2.0
PRODID:-//104.152.168.27//NONSGML kigkonsult.se iCalcreator 2.20//
CALSCALE:GREGORIAN
METHOD:PUBLISH
X-WR-TIMEZONE:Asia/Tokyo
BEGIN:VEVENT
UID:event40645@Tokyo Gig Guide
DTSTAMP:20260425T233046Z
CATEGORIES:Abstract\, Experimental\, Free Jazz\, Improvised\, Jazz
DESCRIPTION:Hisao Fukushima + Kawol SamarQandi duo improv @ MYSTIC\nカテゴリ: A
 bstract\, Experimental\, Free Jazz\, Improvised\, Jazz\nリンク: https://www.t
 okyogigguide.com/index.php?option=com_jem&view=event&id=40645:hisao-fukush
 ima-kawol-samarqandi-duo-improv-mystic&Itemid=1094\n
DTSTART:20260418T183000
DTEND:20260418T183000
LOCATION:MYSTIC\,4-41-2 Nakayama\, Midori-ku\, Yokohama-shi\, Kanagawa\,Yok
 ohama
SUMMARY:Hisao Fukushima + Kawol SamarQandi duo improv @ MYSTIC
URL:https://www.tokyogigguide.com/index.php?option=com_jem&view=event&id=40
 645:hisao-fukushima-kawol-samarqandi-duo-improv-mystic&Itemid=1094
END:VEVENT
END:VCALENDAR
