BEGIN:VCALENDAR
VERSION:2.0
PRODID:-//104.152.168.27//NONSGML kigkonsult.se iCalcreator 2.20//
CALSCALE:GREGORIAN
METHOD:PUBLISH
X-WR-TIMEZONE:Asia/Tokyo
BEGIN:VEVENT
UID:event40637@Tokyo Gig Guide
DTSTAMP:20260424T104228Z
CATEGORIES:Jazz
DESCRIPTION:HANA ●TORI(蜂谷真紀 田中信正)\nカテゴリ: Jazz\nリンク: https://www.tokyogiggui
 de.com/index.php?option=com_jem&view=event&id=40637:hana-tori&Itemid=1094
 \n
DTSTART:20260417T191500
DTEND:20260417T191500
LOCATION:velvetsun\,Sunrize Bldg 1F\, 3-47-21 Ogikubo\, Suginami-ku\,Ogikub
 o
SUMMARY:HANA ●TORI(蜂谷真紀 田中信正)
URL:https://www.tokyogigguide.com/index.php?option=com_jem&view=event&id=40
 637:hana-tori&Itemid=1094
END:VEVENT
END:VCALENDAR
