BEGIN:VCALENDAR
VERSION:2.0
PRODID:-//104.152.168.27//NONSGML kigkonsult.se iCalcreator 2.20//
CALSCALE:GREGORIAN
METHOD:PUBLISH
X-WR-TIMEZONE:Asia/Tokyo
BEGIN:VEVENT
UID:event40630@Tokyo Gig Guide
DTSTAMP:20260424T085136Z
CATEGORIES:Alternative\, Experimental\, Indie-Rock\, Post-Punk\, Rock
DESCRIPTION:Itsuro1×2_6+Topological\, NA/DA\, SoberBrown\, dopey cookie lab
 oratory (D.C.L)\, 熊のジョン\nカテゴリ: Alternative\, Experimental\, Indie-Rock\, P
 ost-Punk\, Rock\nリンク: https://www.tokyogigguide.com/index.php?option=com_j
 em&view=event&id=40630:itsuro1-2-6-topological-na-da-soberbrown-dopey-cook
 ie-laboratory-d-c-l&Itemid=1094\n
DTSTART:20260519T183000
DTEND:20260519T183000
LOCATION:Heaven's Door\,1-33-19 B1 Sangenjyaya\,Sangenjaya
SUMMARY:Itsuro1×2_6+Topological\, NA/DA\, SoberBrown\, dopey cookie laborat
 ory (D.C.L)\, 熊のジョン
URL:https://www.tokyogigguide.com/index.php?option=com_jem&view=event&id=40
 630:itsuro1-2-6-topological-na-da-soberbrown-dopey-cookie-laboratory-d-c-l
 &Itemid=1094
END:VEVENT
END:VCALENDAR
