BEGIN:VCALENDAR
VERSION:2.0
PRODID:-//104.152.168.27//NONSGML kigkonsult.se iCalcreator 2.20//
CALSCALE:GREGORIAN
METHOD:PUBLISH
X-WR-TIMEZONE:Asia/Tokyo
BEGIN:VEVENT
UID:event40604@Tokyo Gig Guide
DTSTAMP:20260419T142718Z
CATEGORIES:Alternative\, Ambient\, Dream-pop\, Electronic\, Electro-Pop
DESCRIPTION:Discovery Zone\, dip in the pool\nカテゴリ: Alternative\, Ambient\,
  Dream-pop\, Electronic\, Electro-Pop\nリンク: https://www.tokyogigguide.com/
 index.php?option=com_jem&view=event&id=40604:discovery-zone-dip-in-the-poo
 l&Itemid=1094\n
DTSTART:20260616T190000
DTEND:20260616T190000
LOCATION:SPREAD\,2-12-6 Kitazawa\, Setagaya-ku\, Tokyo\,Shimokitazawa
SUMMARY:Discovery Zone\, dip in the pool
URL:https://www.tokyogigguide.com/index.php?option=com_jem&view=event&id=40
 604:discovery-zone-dip-in-the-pool&Itemid=1094
END:VEVENT
END:VCALENDAR
