BEGIN:VCALENDAR
VERSION:2.0
PRODID:-//104.152.168.27//NONSGML kigkonsult.se iCalcreator 2.20//
CALSCALE:GREGORIAN
METHOD:PUBLISH
X-WR-TIMEZONE:Asia/Tokyo
BEGIN:VEVENT
UID:event40594@Tokyo Gig Guide
DTSTAMP:20260420T114845Z
CATEGORIES:Avant garde\, Festival\, Improvised\, Instrumental\, Progressive
DESCRIPTION:MABO Fes. 2026: Bondagefruit\, Pere-Furu + Dairo Suga\, Kiida O
 ikawa\nカテゴリ: Avant garde\, Festival\, Improvised\, Instrumental\, Progress
 ive\nリンク: https://www.tokyogigguide.com/index.php?option=com_jem&view=even
 t&id=40594:mabo-fes-2026-bondagefruit-pare-furu-dairo-suga-kiida-oikawa&It
 emid=1094\n
DTSTART:20260614T183000
DTEND:20260614T183000
LOCATION:Star Pine's Cafe\,B1 1-20-16 Kichijoji\,Kichijoji
SUMMARY:MABO Fes. 2026: Bondagefruit\, Pere-Furu + Dairo Suga\, Kiida Oikaw
 a
URL:https://www.tokyogigguide.com/index.php?option=com_jem&view=event&id=40
 594:mabo-fes-2026-bondagefruit-pare-furu-dairo-suga-kiida-oikawa&Itemid=10
 94
END:VEVENT
END:VCALENDAR
