BEGIN:VCALENDAR
VERSION:2.0
PRODID:-//104.152.168.27//NONSGML kigkonsult.se iCalcreator 2.20//
CALSCALE:GREGORIAN
METHOD:PUBLISH
X-WR-TIMEZONE:Asia/Tokyo
BEGIN:VEVENT
UID:event40562@Tokyo Gig Guide
DTSTAMP:20260420T163835Z
CATEGORIES:Experimental\, Improvised\, Jazz\, Rock
DESCRIPTION:TABATA MITSURU (g)\, KATO IPPEI (g)\, FUJIKAKE MASATAKA (ds)\nカ
 テゴリ: Experimental\, Improvised\, Jazz\, Rock\nリンク: https://www.tokyogiggui
 de.com/index.php?option=com_jem&view=event&id=40562:tabata-mitsuru-g-kato-
 ippei-g-fujikake-masataka-ds&Itemid=1094\n
DTSTART:20260514T190000
DTEND:20260514T190000
LOCATION:Aja\,Kaneko Building B1\, 2-21-5 Chuo\, Nakano-ku\, Tokyo\,Nakano-
 sakaue
SUMMARY:TABATA MITSURU (g)\, KATO IPPEI (g)\, FUJIKAKE MASATAKA (ds)
URL:https://www.tokyogigguide.com/index.php?option=com_jem&view=event&id=40
 562:tabata-mitsuru-g-kato-ippei-g-fujikake-masataka-ds&Itemid=1094
END:VEVENT
END:VCALENDAR
