BEGIN:VCALENDAR
VERSION:2.0
PRODID:-//104.152.168.27//NONSGML kigkonsult.se iCalcreator 2.20//
CALSCALE:GREGORIAN
METHOD:PUBLISH
X-WR-TIMEZONE:Asia/Tokyo
BEGIN:VEVENT
UID:event40531@Tokyo Gig Guide
DTSTAMP:20260420T181816Z
CATEGORIES:Alternative\, Doom\, Hard Rock\, Rock n Roll
DESCRIPTION:Lightning Swells Forever\, DOXIE\, Bahboon\, The JFK\nカテゴリ: Alt
 ernative\, Doom\, Hard Rock\, Rock n Roll\nリンク: https://www.tokyogigguide.
 com/index.php?option=com_jem&view=event&id=40531:lightning-swells-forever-
 doxie-bahboon-the-jfk&Itemid=1094\n
DTSTART:20260704T183000
DTEND:20260704T183000
LOCATION:Ruby Room\,2F Kasumi Bldg\, Dogenzaka 2-25-17\, Shibuya\,Shibuya
SUMMARY:Lightning Swells Forever\, DOXIE\, Bahboon\, The JFK
URL:https://www.tokyogigguide.com/index.php?option=com_jem&view=event&id=40
 531:lightning-swells-forever-doxie-bahboon-the-jfk&Itemid=1094
END:VEVENT
END:VCALENDAR
