BEGIN:VCALENDAR
VERSION:2.0
PRODID:-//104.152.168.27//NONSGML kigkonsult.se iCalcreator 2.20//
CALSCALE:GREGORIAN
METHOD:PUBLISH
X-WR-TIMEZONE:Asia/Tokyo
BEGIN:VEVENT
UID:event40528@Tokyo Gig Guide
DTSTAMP:20260424T080224Z
CATEGORIES:Alternative\, Instrumental\, Progressive
DESCRIPTION:Era Special (Akihisa Tsuboi\, Natsuki Kido\, Hiroyuki Nanba\, K
 enji Sato\, Youichi Okabe)\nカテゴリ: Alternative\, Instrumental\, Progressive
 \nリンク: https://www.tokyogigguide.com/index.php?option=com_jem&view=event&i
 d=40528:era-special-akihisa-tsuboi-natsuki-kido-hiroyuki-nanba-kenji-sato-
 youichi-okabe&Itemid=1094\n
DTSTART:20260517T183000
DTEND:20260517T183000
LOCATION:Studio WUU\,5F\, 1-5-20 kashiwa\, kashiwa-shi\, Chiba\,Kashiwa
SUMMARY:Era Special (Akihisa Tsuboi\, Natsuki Kido\, Hiroyuki Nanba\, Kenji
  Sato\, Youichi Okabe)
URL:https://www.tokyogigguide.com/index.php?option=com_jem&view=event&id=40
 528:era-special-akihisa-tsuboi-natsuki-kido-hiroyuki-nanba-kenji-sato-youi
 chi-okabe&Itemid=1094
END:VEVENT
END:VCALENDAR
