BEGIN:VCALENDAR
VERSION:2.0
PRODID:-//104.152.168.27//NONSGML kigkonsult.se iCalcreator 2.20//
CALSCALE:GREGORIAN
METHOD:PUBLISH
X-WR-TIMEZONE:Asia/Tokyo
BEGIN:VEVENT
UID:event40525@Tokyo Gig Guide
DTSTAMP:20260419T154127Z
CATEGORIES:Alternative\, Experimental\, Free Jazz\, Improvised\, Instrument
 al
DESCRIPTION:Natsuki Kido\, Keigo Iwami\, Yasuhiro Yoshigaki\nカテゴリ: Alternat
 ive\, Experimental\, Free Jazz\, Improvised\, Instrumental\nリンク: https://w
 ww.tokyogigguide.com/index.php?option=com_jem&view=event&id=40525:natsuki-
 kido-keigo-iwami-yasuhiro-yoshigaki&Itemid=1094\n
DTSTART:20260503T170000
DTEND:20260503T170000
LOCATION:Ongakushitsu DX\,B1F 3-20-4 Nishiwaseda Shinjuku-ku Tokyo\,Takadan
 obaba
SUMMARY:Natsuki Kido\, Keigo Iwami\, Yasuhiro Yoshigaki
URL:https://www.tokyogigguide.com/index.php?option=com_jem&view=event&id=40
 525:natsuki-kido-keigo-iwami-yasuhiro-yoshigaki&Itemid=1094
END:VEVENT
END:VCALENDAR
