BEGIN:VCALENDAR
VERSION:2.0
PRODID:-//104.152.168.27//NONSGML kigkonsult.se iCalcreator 2.20//
CALSCALE:GREGORIAN
METHOD:PUBLISH
X-WR-TIMEZONE:Asia/Tokyo
BEGIN:VEVENT
UID:event40524@Tokyo Gig Guide
DTSTAMP:20260420T222416Z
CATEGORIES:Acoustic\, Folk\, Improvised\, Instrumental
DESCRIPTION:ARCANA (Youhei Yamashita\, Eri Uenoyama\, Natsuki Kido)\nカテゴリ: 
 Acoustic\, Folk\, Improvised\, Instrumental\nリンク: https://www.tokyogigguid
 e.com/index.php?option=com_jem&view=event&id=40524:arcana-youhei-yamashita
 -eri-uenoyama-natsuki-kido&Itemid=1094\n
DTSTART:20260502T140000
DTEND:20260502T140000
LOCATION:Coquelicot\,101\, 4-39-10\, honcho\, Funabashi city\, Chiba\,Funab
 ashi
SUMMARY:ARCANA (Youhei Yamashita\, Eri Uenoyama\, Natsuki Kido)
URL:https://www.tokyogigguide.com/index.php?option=com_jem&view=event&id=40
 524:arcana-youhei-yamashita-eri-uenoyama-natsuki-kido&Itemid=1094
END:VEVENT
END:VCALENDAR
