BEGIN:VCALENDAR
VERSION:2.0
PRODID:-//104.152.168.27//NONSGML kigkonsult.se iCalcreator 2.20//
CALSCALE:GREGORIAN
METHOD:PUBLISH
X-WR-TIMEZONE:Asia/Tokyo
BEGIN:VEVENT
UID:event40478@Tokyo Gig Guide
DTSTAMP:20260419T135434Z
CATEGORIES:Avant garde\, Free Jazz\, Improvised\, Instrumental\, Jam
DESCRIPTION:Tomohiro Kanbe + Daisuke Fuwa + Masahiro Uemura\nカテゴリ: Avant ga
 rde\, Free Jazz\, Improvised\, Instrumental\, Jam\nリンク: https://www.tokyog
 igguide.com/index.php?option=com_jem&view=event&id=40478:tomohiro-kanbe-da
 isuke-fuwa-masahiro-uemura&Itemid=1094\n
DTSTART:20260513T190000
DTEND:20260513T190000
LOCATION:Ten (天)\,Asagaya-kita 2-1-5 B1F\,Asagaya
SUMMARY:Tomohiro Kanbe + Daisuke Fuwa + Masahiro Uemura
URL:https://www.tokyogigguide.com/index.php?option=com_jem&view=event&id=40
 478:tomohiro-kanbe-daisuke-fuwa-masahiro-uemura&Itemid=1094
END:VEVENT
END:VCALENDAR
