BEGIN:VCALENDAR
VERSION:2.0
PRODID:-//104.152.168.27//NONSGML kigkonsult.se iCalcreator 2.20//
CALSCALE:GREGORIAN
METHOD:PUBLISH
X-WR-TIMEZONE:Asia/Tokyo
BEGIN:VEVENT
UID:event40452@Tokyo Gig Guide
DTSTAMP:20260419T135409Z
CATEGORIES:Instrumental
DESCRIPTION:Peter Miller (from Australia)\, 坂ノ下典正 (Sakanoshita Norimasa)\nカ
 テゴリ: Instrumental\nリンク: https://www.tokyogigguide.com/index.php?option=com
 _jem&view=event&id=40452:peter-miller-from-australia-sakanoshita-norimasa&
 Itemid=1094\n
DTSTART:20260425T190000
DTEND:20260425T190000
LOCATION:Ten (天)\,Asagaya-kita 2-1-5 B1F\,Asagaya
SUMMARY:Peter Miller (from Australia)\, 坂ノ下典正 (Sakanoshita Norimasa)
URL:https://www.tokyogigguide.com/index.php?option=com_jem&view=event&id=40
 452:peter-miller-from-australia-sakanoshita-norimasa&Itemid=1094
END:VEVENT
END:VCALENDAR
