BEGIN:VCALENDAR
VERSION:2.0
PRODID:-//104.152.168.27//NONSGML kigkonsult.se iCalcreator 2.20//
CALSCALE:GREGORIAN
METHOD:PUBLISH
X-WR-TIMEZONE:Asia/Tokyo
BEGIN:VEVENT
UID:event40450@Tokyo Gig Guide
DTSTAMP:20260419T222619Z
CATEGORIES:Funk\, Acoustic\, Indie\, Pop\, Rock
DESCRIPTION:弓川 玄\, しらいしかずや\, Knoluca\, パぁ\, MR.SMT\, oookay!!!\nカテゴリ: Funk\
 , Acoustic\, Indie\, Pop\, Rock\nリンク: https://www.tokyogigguide.com/index.
 php?option=com_jem&view=event&id=40450:knoluca-mr-smt-oookay&Itemid=1094\n
DTSTART:20260423T173000
DTEND:20260423T173000
LOCATION:Nepo\,B1\, 1-17-4\, Shimorenjaku\, Mitaka\, Tokyo\,Kichijoji
SUMMARY:弓川 玄\, しらいしかずや\, Knoluca\, パぁ\, MR.SMT\, oookay!!!
URL:https://www.tokyogigguide.com/index.php?option=com_jem&view=event&id=40
 450:knoluca-mr-smt-oookay&Itemid=1094
END:VEVENT
END:VCALENDAR
