BEGIN:VCALENDAR
VERSION:2.0
PRODID:-//104.152.168.27//NONSGML kigkonsult.se iCalcreator 2.20//
CALSCALE:GREGORIAN
METHOD:PUBLISH
X-WR-TIMEZONE:Asia/Tokyo
BEGIN:VEVENT
UID:event40437@Tokyo Gig Guide
DTSTAMP:20260425T172439Z
CATEGORIES:Ambient\, Avant garde\, Dub\, Experimental\, Improvised\, Rock
DESCRIPTION:Dub Antimatters (Yasushi Ishikawa\, Naoyasu Takahashi\, Arata O
 gawa\, DTchainsaw)\nカテゴリ: Ambient\, Avant garde\, Dub\, Experimental\, Imp
 rovised\, Rock\nリンク: https://www.tokyogigguide.com/index.php?option=com_je
 m&view=event&id=40437:dub-antimatters-yasushi-ishikawa-naoyasu-takahashi-a
 rata-ogawa-dtchainsaw&Itemid=1094\n
DTSTART:20260612T193000
DTEND:20260612T193000
LOCATION:Flying Teapot\,Enomoto Bldg B1F\, 27-7 Sakae-cho\, Nerima-ku\,Ekod
 a
SUMMARY:Dub Antimatters (Yasushi Ishikawa\, Naoyasu Takahashi\, Arata Ogawa
 \, DTchainsaw)
URL:https://www.tokyogigguide.com/index.php?option=com_jem&view=event&id=40
 437:dub-antimatters-yasushi-ishikawa-naoyasu-takahashi-arata-ogawa-dtchain
 saw&Itemid=1094
END:VEVENT
END:VCALENDAR
