BEGIN:VCALENDAR
VERSION:2.0
PRODID:-//104.152.168.27//NONSGML kigkonsult.se iCalcreator 2.20//
CALSCALE:GREGORIAN
METHOD:PUBLISH
X-WR-TIMEZONE:Asia/Tokyo
BEGIN:VEVENT
UID:event40368@Tokyo Gig Guide
DTSTAMP:20260421T203031Z
CATEGORIES:Avant-pop\, Industrial\, Post-Punk\, Punk
DESCRIPTION:LAPIN AGILE (ラパンナジール)\, Cuddly Toys\, A Concrete Mur\, krishna 
 blue\nカテゴリ: Avant-pop\, Industrial\, Post-Punk\, Punk\nリンク: https://www.to
 kyogigguide.com/index.php?option=com_jem&view=event&id=40368:lapin-agile-c
 uddly-toys-a-concrete-mur-krishna-blue&Itemid=1094\n
DTSTART:20260802T180000
DTEND:20260802T180000
LOCATION:UFO Club\,Harmony Hills B1F 1-11-6 Koenji-Minami\, Suginamiku\,Hig
 ashi-Koenji
SUMMARY:LAPIN AGILE (ラパンナジール)\, Cuddly Toys\, A Concrete Mur\, krishna blue
URL:https://www.tokyogigguide.com/index.php?option=com_jem&view=event&id=40
 368:lapin-agile-cuddly-toys-a-concrete-mur-krishna-blue&Itemid=1094
END:VEVENT
END:VCALENDAR
